BEGIN:VCALENDAR
VERSION:2.0
PRODID:-//swoogo.com//NONSGML kigkonsult.se iCalcreator 2.41.90//
CALSCALE:GREGORIAN
UID:37633962-3835-4534-b464-633862656265
BEGIN:VEVENT
UID:d39c1f3972cce7a984d2f5c4a448ab3d5e73d583@swoogo.com
DTSTAMP:20260421T140536Z
DESCRIPTION:
DTSTART:20251030T000000Z
DTEND:20251030T003000Z
LAST-MODIFIED:20260421T140536Z
LOCATION:Convene Sancroft\, St. Paul's\, Paternoster Sq.\, London EC4M 7DQ\
 , United Kingdom
SEQUENCE:0
STATUS:CONFIRMED
SUMMARY:IFRS Sustainability Symposium 2025
TRANSP:OPAQUE
X-ALT-DESC:
BEGIN:VALARM
UID:64333934-3265-4263-b234-633030313432
ACTION:DISPLAY
DESCRIPTION:
TRIGGER:-PT15M
END:VALARM
END:VEVENT
END:VCALENDAR
